BEGIN:VCALENDAR
VERSION:2.0
METHOD:PUBLISH
PRODID::-//Obvius//NONSGML ICal//DA
BEGIN:VEVENT
UID:3623444@ccrs.ku.dk
DESCRIPTION:International two-day conference.\n\nhttps://ccrs.ku.dk/calend
 ar/2020/food-and-drink-in-feasting/
SUMMARY:Food and drink in feasting
CATEGORIES:Konference
LOCATION:South Campus\, auditorium 15-0-13 
ORGANIZER:Department of Cross Cultural and Regional Studies / The Food-Clu
 ster
DTSTART:20200227T230000Z
DTSTAMP:20200227T230000Z
DTEND:20200228T230000Z
END:VEVENT
END:VCALENDAR
